Workbook
Name AcquisitionCosts: Kalkulator!$D$26
Name Anschaffungskosten: Konfiguracja!$C$4
Name BruttoNettoFactor: Konfiguracja!$C$2
Name CO2SavingPerLiter: Konfiguracja!$C$28
Name ColdWaterPerLiter: Konfiguracja!$C$5
Name ConnectionsPerShower: Kalkulator!$D$7
Name ConsumptionInM3: Konfiguracja!$C$33
Name CostPerKWhInCent: Konfiguracja!#REF!
Name CostPerLiter: Konfiguracja!#REF!
Name EnergyInKwhPerLiter: Konfiguracja!$C$12
Name EnergyPerLiterInJoule: Konfiguracja!#REF!
Name GreenJetSaving: Kalkulator!$D$16
Name GreenJetSavingInPercent: Kalkulator!$D$16
Name LiterPer30s: Kalkulator!$D$11
Name LiterPer30secGreenJet: Kalkulator!$D$12
Name LiterPerMinutes: Kalkulator!$D$13
Name NrOfPersonsPerShower: Kalkulator!$D$9
Name NrOfShowers: Kalkulator!$D$6
Name ShowDurationInMinutes: Kalkulator!$D$10
Name TemperaturDiff: Konfiguracja!$C$10
Name UtilizationInPercent: Kalkulator!$D$8
Name WarmWaterCostsPerLiter: Konfiguracja!#REF!
Name WasteWaterPerLiter: Konfiguracja!$C$6
Name WaterflowInLiterPerMinutes: Kalkulator!$D$13

Sheet Kalkulator
B4: save water & energy for our planet
B6: prysznice/natryski | D6: 100 | F6: ilość
B7: dysze GREENJET | D7: 2 | F7: ilość/1 prysznic i 1 natrysk
B8: stopień wykorzystania prysznicy/natrysków | D8: 0.55 | F8: %
B9: średnia liczba osób | D9: 1.3 | F9: na prysznic
B10: średni czas prysznica | D10: 11 | F10: min/dzień
B11: przepływ wody bez GREENJET | D11: 5.925 | F11: l/30sek.
B12: przepływ z GREENJET | D12: 3.3 | F12: l/30sek.
B13: Wasserdurchfluss | D13: =D11*2 -> 11.85 | F13: l/min
B15: Żródło pogrzania wody | D15: prąd (pompa ciepła)
B16: GREENJET | D16: =IF(AND(LiterPer30secGreenJet <> "", LiterPer30s <> ""),1 -(LiterPer30secGreenJet/LiterPer30s),"") -> 0.44303797 | F16: oszczędność w %
B18: ROCZNE OSZCZĘDNOŚCI
D20: =ROUNDDOWN(Konfiguracja!E38,-1) -> 22210 | F20: €
D21: =ROUNDDOWN(Konfiguracja!E33*1000,-1) -> 1507130 | F21: litrów wody
D22: =ROUNDDOWN(Konfiguracja!E39,-1) -> 13080 | F22: kilogramów CO2
B24: Jednorazowe koszty zakupu
D26: 56.05 | F26: € / sztukę
D27: =Anschaffungskosten*NrOfShowers*ConnectionsPerShower*BruttoNettoFactor -> 11210 | F27: € / całość
B29: okres amortyzacji | D29: =ROUNDUP(D27/D20*12,0) -> 7 | F29: miesięcy
B31: OSZCZĘDNOŚCI PO 10 LATACH
D33: =D20*10 -> 222100 | F33: €
B35: Podane wartości zależą od wielu zmiennych jak np. pierwotnego przepływu wody, źródła czynnika grzewczego i ceny energii (podgrzania), wody zimnej, temperatur wód, kosztu odprowadzenia ścieków, regionu, czasu użytkowania i stopnia wykorzystania/obłożenia prysznica/natrysku, itp.
B37: Uwaga:
B38: Ceny energii i wody w 2024
B39: Oszczędności po 10 latach mogą być wyższe, jeśli ceny energii i wody wzrosną
B42: Konfiguracja
B43: Cena wody zimnej | C43: 1.75 | D43: € 1,15 za m³
B44: Cena nieczystości | C44: 2.2 | D44: € 2,10 za m³
B45: Energia elektryczna | D45: € 164,16 za kWh

Sheet Konfiguracja
A1: Konfiguracja
B2: Brutto/Netto | C2: 1 | D2: Brutto=1,23 / Netto=1
B4: Koszty zakupu | C4: 56.05 | D4: za sztukę
B5: Cena wody zimnej | C5: 1.15 | D5: za m³
B6: Cena nieczystości | C6: 2.1 | D6: za m³
B8: Temperatura wody zimnej | C8: 10 | D8: ° Celsius
B9: Temperatura wody ciepłej | C9: 38 | D9: ° Celsius
B10: Różnica temperatur | C10: =C9-C8 -> 28 | D10: ° Celsius
B12: Zużycie energii | C12: =TemperaturDiff*1 -> 28 | D12: KWh/m³
B14: Źródło podgrzania wody | C14: c/KWh | D14: CO² g/litr | E14: stopień sprawności
B15: ogrzewanie sieciowe | C15: 14.6 | D15: 11.11 | E15: 1
B16: gaz | C16: 9 | D16: 12.59 | E16: 1
B17: olej | C17: 14.2 | D17: 11.85 | E17: 1
B18: pelet | C18: 12.25 | D18: 0.59 | E18: 1
B19: prąd (pompa ciepła) | C19: 164.16 | D19: 8.68 | E19: 4
B20: X | C20: 0 | D20: 0 | E20: 1
A22: Kalkulacja
A24: Parametry
B26: Czynnik grzewczy | C26: =Kalkulator!D15 -> prąd (pompa ciepła)
B27: Koszty | C27: =VLOOKUP(Kalkulator!$D$15,Konfiguracja!$B$15:$F$20,2,TRUE) -> 164.16 | D27: c / KWh
B28: CO2 | C28: =VLOOKUP(Kalkulator!D15,Konfiguracja!B15:F20,3,TRUE) -> 8.68 | D28: g / litr
B29: Poziom efektywności | C29: =VLOOKUP(Kalkulator!D15,Konfiguracja!B15:F20,4,TRUE) -> 4
A31: Analiza
C32: STARE | D32: NOWE | E32: RÓŻNICA
B33: Zużycie wody | C33: =WaterflowInLiterPerMinutes*ShowDurationInMinutes*NrOfPersonsPerShower*NrOfShowers*UtilizationInPercent*365/1000 -> 3401.8091 | D33: =C33*(1-GreenJetSavingInPercent) -> 1894.6785 | E33: =C33-D33 -> 1507.1306 | F33: m³ rocznie
B34: Pobór energii | C34: =C33*EnergyInKwhPerLiter*(1/$C$29) -> 23812.664 | D34: =D33*EnergyInKwhPerLiter*(1/$C$29) -> 13262.75 | E34: =C34-D34 -> 10549.914 | F34: w KWh rocznie
B35: Woda zimna | C35: =C33*ColdWaterPerLiter*BruttoNettoFactor -> 3912.0805 | D35: =D33*ColdWaterPerLiter*BruttoNettoFactor -> 2178.8803 | E35: =C35-D35 -> 1733.2002 | F35: €
B36: Nieczystości | C36: =C33*WasteWaterPerLiter*BruttoNettoFactor -> 7143.7992 | D36: =D33*WasteWaterPerLiter*BruttoNettoFactor -> 3978.8249 | E36: =C36-D36 -> 3164.9743 | F36: €
B37: Koszty podgrzania | C37: =C34*C27/100*BruttoNettoFactor -> 39090.869 | D37: =D34*C27/100*BruttoNettoFactor -> 21772.13 | E37: =C37-D37 -> 17318.739 | F37: €
B38: Koszty | C38: =SUM(C35:C37) -> 50146.749 | D38: =SUM(D35:D37) -> 27929.835 | E38: =C38-D38 -> 22216.914 | F38: € / rok
B39: CO2 | C39: =C33*CO2SavingPerLiter -> 29527.703 | D39: =D33*CO2SavingPerLiter -> 16445.809 | E39: =C39-D39 -> 13081.894 | F39: kg / rok
